BEGIN:VCALENDAR
VERSION:2.0
PRODID:-//wp-events-plugin.com//7.2.3.1//EN
TZID:Europe/Berlin
X-WR-TIMEZONE:Europe/Berlin
BEGIN:VEVENT
UID:115@pollinger-wein.de
DTSTART;TZID=Europe/Berlin:20230218T110000
DTEND;TZID=Europe/Berlin:20230218T220000
DTSTAMP:20230130T161224Z
URL:https://pollinger-wein.de/events/faschingstreiben
SUMMARY:Faschingstreiben
DESCRIPTION:
LOCATION:Weinfass\, Kirchplatz\, Polling\, 82398\, Deutschland
X-APPLE-STRUCTURED-LOCATION;VALUE=URI;X-ADDRESS=Kirchplatz\, Polling\, 8239
 8\, Deutschland;X-APPLE-RADIUS=100;X-TITLE=Weinfass:geo:0,0
END:VEVENT
BEGIN:VTIMEZONE
TZID:Europe/Berlin
X-LIC-LOCATION:Europe/Berlin
BEGIN:STANDARD
DTSTART:20221030T020000
TZOFFSETFROM:+0200
TZOFFSETTO:+0100
TZNAME:CET
END:STANDARD
END:VTIMEZONE
END:VCALENDAR