BEGIN:VCALENDAR
VERSION:2.0
PRODID:-//wp-events-plugin.com//7.2.3.1//EN
TZID:Europe/Berlin
X-WR-TIMEZONE:Europe/Berlin
BEGIN:VEVENT
UID:117@pollinger-wein.de
DTSTART;TZID=Europe/Berlin:20230624T110000
DTEND;TZID=Europe/Berlin:20230624T210000
DTSTAMP:20230528T094517Z
URL:https://pollinger-wein.de/events/kulturtag-2023
SUMMARY:Kulturtag 2023
DESCRIPTION:Weinausschank am Weinfass.\n\nKellerführungen im Weinkeller.
CATEGORIES:Dämmerschoppen
LOCATION:Weinfass\, Kirchplatz\, Polling\, 82398\, Deutschland
X-APPLE-STRUCTURED-LOCATION;VALUE=URI;X-ADDRESS=Kirchplatz\, Polling\, 8239
 8\, Deutschland;X-APPLE-RADIUS=100;X-TITLE=Weinfass:geo:0,0
END:VEVENT
BEGIN:VTIMEZONE
TZID:Europe/Berlin
X-LIC-LOCATION:Europe/Berlin
BEGIN:DAYLIGHT
DTSTART:20230326T030000
TZOFFSETFROM:+0100
TZOFFSETTO:+0200
TZNAME:CEST
END:DAYLIGHT
END:VTIMEZONE
END:VCALENDAR